BEGIN:VCALENDAR
VERSION:2.0
PRODID:-// - ECPv6.15.20//NONSGML v1.0//EN
CALSCALE:GREGORIAN
METHOD:PUBLISH
X-ORIGINAL-URL:https://maspalomasfetishpride.com
X-WR-CALDESC:Events for 
REFRESH-INTERVAL;VALUE=DURATION:PT1H
X-Robots-Tag:noindex
X-PUBLISHED-TTL:PT1H
BEGIN:VTIMEZONE
TZID:Europe/Dublin
BEGIN:STANDARD
TZOFFSETFROM:+0000
TZOFFSETTO:+0100
TZNAME:IST
DTSTART:20240331T010000
END:STANDARD
BEGIN:DAYLIGHT
TZOFFSETFROM:+0100
TZOFFSETTO:+0000
TZNAME:GMT
DTSTART:20241027T010000
END:DAYLIGHT
BEGIN:STANDARD
TZOFFSETFROM:+0000
TZOFFSETTO:+0100
TZNAME:IST
DTSTART:20250330T010000
END:STANDARD
BEGIN:DAYLIGHT
TZOFFSETFROM:+0100
TZOFFSETTO:+0000
TZNAME:GMT
DTSTART:20251026T010000
END:DAYLIGHT
BEGIN:STANDARD
TZOFFSETFROM:+0000
TZOFFSETTO:+0100
TZNAME:IST
DTSTART:20260329T010000
END:STANDARD
BEGIN:DAYLIGHT
TZOFFSETFROM:+0100
TZOFFSETTO:+0000
TZNAME:GMT
DTSTART:20261025T010000
END:DAYLIGHT
END:VTIMEZONE
BEGIN:VEVENT
DTSTART;TZID=Europe/Dublin:20251010T213000
DTEND;TZID=Europe/Dublin:20251011T030000
DTSTAMP:20260421T110441
CREATED:20250529T160500Z
LAST-MODIFIED:20251009T200250Z
UID:240-1760131800-1760151600@maspalomasfetishpride.com
SUMMARY:Leather v Rubber
DESCRIPTION:
URL:https://maspalomasfetishpride.com/event/leather-v-rubber/
LOCATION:Noxon\, The Yumbo Center\, Playa del Inglés\, 35100\, Spain
CATEGORIES:Fetish,Leather,Rubber,Social
ATTACH;FMTTYPE=image/jpeg:https://maspalomasfetishpride.com/wp-content/uploads/2025/05/PHOTO-2025-10-09-19-40-38.jpg
END:VEVENT
BEGIN:VEVENT
DTSTART;TZID=Europe/Dublin:20251012T220000
DTEND;TZID=Europe/Dublin:20251013T010000
DTSTAMP:20260421T110441
CREATED:20250529T160515Z
LAST-MODIFIED:20250914T144324Z
UID:246-1760306400-1760317200@maspalomasfetishpride.com
SUMMARY:The Leather Social by Folsom Europe
DESCRIPTION:
URL:https://maspalomasfetishpride.com/event/the-leather-social/
LOCATION:The Box\, The Yumbo Center\, Playa del Inglés\, 35100\, Spain
CATEGORIES:Leather
ATTACH;FMTTYPE=image/jpeg:https://maspalomasfetishpride.com/wp-content/uploads/2025/07/WhatsApp-Image-2025-09-12-at-15.24.22.jpeg
END:VEVENT
END:VCALENDAR