BEGIN:VCALENDAR
VERSION:2.0
PRODID:-// - ECPv6.15.20//NONSGML v1.0//EN
CALSCALE:GREGORIAN
METHOD:PUBLISH
X-ORIGINAL-URL:https://maspalomasfetishpride.com
X-WR-CALDESC:Events for 
REFRESH-INTERVAL;VALUE=DURATION:PT1H
X-Robots-Tag:noindex
X-PUBLISHED-TTL:PT1H
BEGIN:VTIMEZONE
TZID:Europe/Dublin
BEGIN:STANDARD
TZOFFSETFROM:+0000
TZOFFSETTO:+0100
TZNAME:IST
DTSTART:20240331T010000
END:STANDARD
BEGIN:DAYLIGHT
TZOFFSETFROM:+0100
TZOFFSETTO:+0000
TZNAME:GMT
DTSTART:20241027T010000
END:DAYLIGHT
BEGIN:STANDARD
TZOFFSETFROM:+0000
TZOFFSETTO:+0100
TZNAME:IST
DTSTART:20250330T010000
END:STANDARD
BEGIN:DAYLIGHT
TZOFFSETFROM:+0100
TZOFFSETTO:+0000
TZNAME:GMT
DTSTART:20251026T010000
END:DAYLIGHT
BEGIN:STANDARD
TZOFFSETFROM:+0000
TZOFFSETTO:+0100
TZNAME:IST
DTSTART:20260329T010000
END:STANDARD
BEGIN:DAYLIGHT
TZOFFSETFROM:+0100
TZOFFSETTO:+0000
TZNAME:GMT
DTSTART:20261025T010000
END:DAYLIGHT
BEGIN:STANDARD
TZOFFSETFROM:+0000
TZOFFSETTO:+0100
TZNAME:IST
DTSTART:20270328T010000
END:STANDARD
BEGIN:DAYLIGHT
TZOFFSETFROM:+0100
TZOFFSETTO:+0000
TZNAME:GMT
DTSTART:20271031T010000
END:DAYLIGHT
END:VTIMEZONE
BEGIN:VEVENT
DTSTART;TZID=Europe/Dublin:20251008T210000
DTEND;TZID=Europe/Dublin:20251008T230000
DTSTAMP:20260421T094941
CREATED:20250721T172131Z
LAST-MODIFIED:20250914T143725Z
UID:366-1759957200-1759964400@maspalomasfetishpride.com
SUMMARY:Rheinfetisch Social Wednesday
DESCRIPTION:
URL:https://maspalomasfetishpride.com/event/rheinfetisch-social-wednesday/
LOCATION:Black Lomond\, Yumbo center Av. Estados Unidos\, 54\, 35100\, Spain
CATEGORIES:Social
ATTACH;FMTTYPE=image/jpeg:https://maspalomasfetishpride.com/wp-content/uploads/2025/07/WhatsApp-Image-2025-09-11-at-15.29.58-e1757860638144.jpeg
END:VEVENT
BEGIN:VEVENT
DTSTART;TZID=Europe/Dublin:20251008T210000
DTEND;TZID=Europe/Dublin:20251009T040000
DTSTAMP:20260421T094941
CREATED:20250815T135744Z
LAST-MODIFIED:20250914T144017Z
UID:847-1759957200-1759982400@maspalomasfetishpride.com
SUMMARY:XXXTreeme Fetish
DESCRIPTION:
URL:https://maspalomasfetishpride.com/event/xxxtreeme-fetish/
LOCATION:The Factory\, Av. 8 de Marzo\, 31\,\, Maspalomas\, San Bartolomé de Tirajana\, 35100\, Spain
ATTACH;FMTTYPE=image/jpeg:https://maspalomasfetishpride.com/wp-content/uploads/2025/08/WhatsApp-Image-2025-09-14-at-13.02.42.jpeg
END:VEVENT
BEGIN:VEVENT
DTSTART;TZID=Europe/Dublin:20251008T230000
DTEND;TZID=Europe/Dublin:20251009T060000
DTSTAMP:20260421T094941
CREATED:20251005T193502Z
LAST-MODIFIED:20251006T202648Z
UID:1235-1759964400-1759989600@maspalomasfetishpride.com
SUMMARY:Swingers Social
DESCRIPTION:
URL:https://maspalomasfetishpride.com/event/swingers-social/
LOCATION:Club Kiki\, The Yumbo Center\, Playa del Inglés\, 35100\, Spain
CATEGORIES:Social
ATTACH;FMTTYPE=image/jpeg:https://maspalomasfetishpride.com/wp-content/uploads/2025/10/swingathon-weds.jpg
END:VEVENT
BEGIN:VEVENT
DTSTART;TZID=Europe/Dublin:20251009T110000
DTEND;TZID=Europe/Dublin:20251009T130000
DTSTAMP:20260421T094941
CREATED:20251003T142045Z
LAST-MODIFIED:20251003T142114Z
UID:1227-1760007600-1760014800@maspalomasfetishpride.com
SUMMARY:SLFC Breakfast
DESCRIPTION:
URL:https://maspalomasfetishpride.com/event/slfc-breakfast/
LOCATION:Mardi Gras\, The Yumbo Center\, Playa del Inglés\, 35100\, Spain
END:VEVENT
BEGIN:VEVENT
DTSTART;TZID=Europe/Dublin:20251009T110000
DTEND;TZID=Europe/Dublin:20251009T180000
DTSTAMP:20260421T094941
CREATED:20250904T120509Z
LAST-MODIFIED:20250914T143150Z
UID:1093-1760007600-1760032800@maspalomasfetishpride.com
SUMMARY:Ricky's Winter Warmer Pool Party
DESCRIPTION:
URL:https://maspalomasfetishpride.com/event/rickys-winter-warmer-pool-party/
LOCATION:Axel Beach Hotel\, C. Timple\, Playa del Inglés\, 35100\, Spain
CATEGORIES:Pool Party
ATTACH;FMTTYPE=image/jpeg:https://maspalomasfetishpride.com/wp-content/uploads/2025/09/IMG_0459-e1757860304573.jpg
END:VEVENT
BEGIN:VEVENT
DTSTART;TZID=Europe/Dublin:20251009T220000
DTEND;TZID=Europe/Dublin:20251010T040000
DTSTAMP:20260421T094941
CREATED:20250815T140116Z
LAST-MODIFIED:20250911T143712Z
UID:856-1760047200-1760068800@maspalomasfetishpride.com
SUMMARY:Fetish Cruising Party
DESCRIPTION:
URL:https://maspalomasfetishpride.com/event/fetish-cruising-party/
LOCATION:Zoo Mens Bar\, Av. de Tirajana\, 17\, Maspalomas\, San Bartolomé de Tirajana\, 35100\, Spain
ATTACH;FMTTYPE=image/jpeg:https://maspalomasfetishpride.com/wp-content/uploads/2025/08/1000022705-scaled.jpg
END:VEVENT
BEGIN:VEVENT
DTSTART;TZID=Europe/Dublin:20251010T213000
DTEND;TZID=Europe/Dublin:20251010T230000
DTSTAMP:20260421T094941
CREATED:20250529T160500Z
LAST-MODIFIED:20250929T173957Z
UID:239-1760131800-1760137200@maspalomasfetishpride.com
SUMMARY:Sissy That Walk – Fetish Fashion Show
DESCRIPTION:
URL:https://maspalomasfetishpride.com/event/sissy-that-walk-fetish-fashion-show/
LOCATION:Toms Bar\, The Yumbo Center\, Playa del Inglés\, 35100\, Spain
CATEGORIES:Social
END:VEVENT
BEGIN:VEVENT
DTSTART;TZID=Europe/Dublin:20251010T213000
DTEND;TZID=Europe/Dublin:20251011T030000
DTSTAMP:20260421T094941
CREATED:20250529T160500Z
LAST-MODIFIED:20251009T200250Z
UID:240-1760131800-1760151600@maspalomasfetishpride.com
SUMMARY:Leather v Rubber
DESCRIPTION:
URL:https://maspalomasfetishpride.com/event/leather-v-rubber/
LOCATION:Noxon\, The Yumbo Center\, Playa del Inglés\, 35100\, Spain
CATEGORIES:Fetish,Leather,Rubber,Social
ATTACH;FMTTYPE=image/jpeg:https://maspalomasfetishpride.com/wp-content/uploads/2025/05/PHOTO-2025-10-09-19-40-38.jpg
END:VEVENT
BEGIN:VEVENT
DTSTART;TZID=Europe/Dublin:20251010T230000
DTEND;TZID=Europe/Dublin:20251011T060000
DTSTAMP:20260421T094941
CREATED:20250529T160500Z
LAST-MODIFIED:20250822T123753Z
UID:241-1760137200-1760162400@maspalomasfetishpride.com
SUMMARY:Into The Tank
DESCRIPTION:
URL:https://maspalomasfetishpride.com/event/into-the-tank/
LOCATION:Club Kiki\, The Yumbo Center\, Playa del Inglés\, 35100\, Spain
ATTACH;FMTTYPE=image/jpeg:https://maspalomasfetishpride.com/wp-content/uploads/2025/07/xydirt31hyqgqklcppqx-1.jpg
END:VEVENT
BEGIN:VEVENT
DTSTART;TZID=Europe/Dublin:20251011T110000
DTEND;TZID=Europe/Dublin:20251011T130000
DTSTAMP:20260421T094941
CREATED:20250930T135500Z
LAST-MODIFIED:20250930T135500Z
UID:1217-1760180400-1760187600@maspalomasfetishpride.com
SUMMARY:SLFC Brunch
DESCRIPTION:
URL:https://maspalomasfetishpride.com/event/slfc-brunch/
LOCATION:Buddies\, The Yumbo Center\, maspalomas\, Las Palmas\, 35100\, Spain
ATTACH;FMTTYPE=image/jpeg:https://maspalomasfetishpride.com/wp-content/uploads/2025/09/WhatsApp-Image-2025-09-22-at-20.40.58.jpeg
END:VEVENT
BEGIN:VEVENT
DTSTART;TZID=Europe/Dublin:20251011T180000
DTEND;TZID=Europe/Dublin:20251012T030000
DTSTAMP:20260421T094941
CREATED:20250529T160515Z
LAST-MODIFIED:20250910T150434Z
UID:243-1760205600-1760238000@maspalomasfetishpride.com
SUMMARY:FF Marathon
DESCRIPTION:
URL:https://maspalomasfetishpride.com/event/ff-marathon-2/
LOCATION:Time OFF\, Av. de Francia\, Playa del Inglés\, 35100\, Spain
ATTACH;FMTTYPE=image/jpeg:https://maspalomasfetishpride.com/wp-content/uploads/2025/05/WhatsApp-Image-2025-09-10-at-12.57.37.jpeg
END:VEVENT
BEGIN:VEVENT
DTSTART;TZID=Europe/Dublin:20251011T190000
DTEND;TZID=Europe/Dublin:20251011T210000
DTSTAMP:20260421T094941
CREATED:20250616T155506Z
LAST-MODIFIED:20251011T172628Z
UID:282-1760209200-1760216400@maspalomasfetishpride.com
SUMMARY:Skins and Punks Social
DESCRIPTION:
URL:https://maspalomasfetishpride.com/event/skins-and-punks-social/
LOCATION:Junior\, The Yumbo Center\, Maspalomas\, Spain
CATEGORIES:Skins and Punks
ATTACH;FMTTYPE=image/jpeg:https://maspalomasfetishpride.com/wp-content/uploads/2025/06/skins.jpg
END:VEVENT
BEGIN:VEVENT
DTSTART;TZID=Europe/Dublin:20251011T210000
DTEND;TZID=Europe/Dublin:20251011T230000
DTSTAMP:20260421T094941
CREATED:20250904T120750Z
LAST-MODIFIED:20250914T144151Z
UID:1095-1760216400-1760223600@maspalomasfetishpride.com
SUMMARY:Rubber Poolside Social by Rubber Spain
DESCRIPTION:
URL:https://maspalomasfetishpride.com/event/rubber-poolside-social-by-rubber-spain/
LOCATION:Basement Studios\, Av. de Estados Unidos 37\, Playa del Inglés\, 35100\, Spain
CATEGORIES:Fetish,Pool Party,Rubber
ATTACH;FMTTYPE=image/jpeg:https://maspalomasfetishpride.com/wp-content/uploads/2025/07/WhatsApp-Image-2025-09-12-at-14.44.06.jpeg
END:VEVENT
BEGIN:VEVENT
DTSTART;TZID=Europe/Dublin:20251011T210000
DTEND;TZID=Europe/Dublin:20251012T040000
DTSTAMP:20260421T094941
CREATED:20250815T141550Z
LAST-MODIFIED:20250911T143952Z
UID:871-1760216400-1760241600@maspalomasfetishpride.com
SUMMARY:Fetish Sexsion
DESCRIPTION:
URL:https://maspalomasfetishpride.com/event/naked-sexion/
LOCATION:Reds Club\, Barbados II\, Av. de Tirajana\, 17\, Maspalomas\, San Bartolomé de Tirajana\, 35100\, Spain
ATTACH;FMTTYPE=image/jpeg:https://maspalomasfetishpride.com/wp-content/uploads/2025/08/WhatsApp-Image-2025-09-11-at-15.26.24.jpeg
END:VEVENT
BEGIN:VEVENT
DTSTART;TZID=Europe/Dublin:20251011T230000
DTEND;TZID=Europe/Dublin:20251012T060000
DTSTAMP:20260421T094941
CREATED:20250529T160515Z
LAST-MODIFIED:20250822T173637Z
UID:244-1760223600-1760248800@maspalomasfetishpride.com
SUMMARY:HardOn - Fetish Pride Edition
DESCRIPTION:
URL:https://maspalomasfetishpride.com/event/hardon/
LOCATION:Club Kiki\, The Yumbo Center\, Playa del Inglés\, 35100\, Spain
ATTACH;FMTTYPE=image/jpeg:https://maspalomasfetishpride.com/wp-content/uploads/2025/07/Hardon-25.jpeg
END:VEVENT
BEGIN:VEVENT
DTSTART;TZID=Europe/Dublin:20251012T220000
DTEND;TZID=Europe/Dublin:20251013T010000
DTSTAMP:20260421T094941
CREATED:20250529T160515Z
LAST-MODIFIED:20250914T144324Z
UID:246-1760306400-1760317200@maspalomasfetishpride.com
SUMMARY:The Leather Social by Folsom Europe
DESCRIPTION:
URL:https://maspalomasfetishpride.com/event/the-leather-social/
LOCATION:The Box\, The Yumbo Center\, Playa del Inglés\, 35100\, Spain
CATEGORIES:Leather
ATTACH;FMTTYPE=image/jpeg:https://maspalomasfetishpride.com/wp-content/uploads/2025/07/WhatsApp-Image-2025-09-12-at-15.24.22.jpeg
END:VEVENT
BEGIN:VEVENT
DTSTART;TZID=Europe/Dublin:20251012T230000
DTEND;TZID=Europe/Dublin:20251013T060000
DTSTAMP:20260421T094941
CREATED:20250529T160516Z
LAST-MODIFIED:20250904T121111Z
UID:247-1760310000-1760335200@maspalomasfetishpride.com
SUMMARY:DILF Fetish Pride Edition
DESCRIPTION:
URL:https://maspalomasfetishpride.com/event/dilf-official-closing-party/
LOCATION:Club Kiki\, The Yumbo Center\, Playa del Inglés\, 35100\, Spain
ATTACH;FMTTYPE=image/jpeg:https://maspalomasfetishpride.com/wp-content/uploads/2025/08/PHOTO-2025-08-03-11-58-24.jpg
END:VEVENT
BEGIN:VEVENT
DTSTART;TZID=Europe/Dublin:20251013T190000
DTEND;TZID=Europe/Dublin:20251013T220000
DTSTAMP:20260421T094941
CREATED:20250529T160415Z
LAST-MODIFIED:20251012T022008Z
UID:225-1760382000-1760392800@maspalomasfetishpride.com
SUMMARY:Puppy Dinner
DESCRIPTION:
URL:https://maspalomasfetishpride.com/event/puppy-dinner/
LOCATION:Anders Restaurant\, CC. Cita\, Playa del Inglés\, 35100\, Spain
CATEGORIES:Puppy
ATTACH;FMTTYPE=image/jpeg:https://maspalomasfetishpride.com/wp-content/uploads/2025/05/PHOTO-2025-10-09-11-29-01-e1760007116880.jpg
END:VEVENT
BEGIN:VEVENT
DTSTART;TZID=Europe/Dublin:20251013T210000
DTEND;TZID=Europe/Dublin:20251013T230000
DTSTAMP:20260421T094941
CREATED:20250903T185108Z
LAST-MODIFIED:20250903T185108Z
UID:1068-1760389200-1760396400@maspalomasfetishpride.com
SUMMARY:The CanCanaria Fetish Social
DESCRIPTION:
URL:https://maspalomasfetishpride.com/event/the-cancanaria-fetish-social/
LOCATION:Junior\, The Yumbo Center\, Maspalomas\, Spain
CATEGORIES:Fetish,Social
ATTACH;FMTTYPE=image/jpeg:https://maspalomasfetishpride.com/wp-content/uploads/2025/05/Social-13th-Oct-Junior-.jpg
END:VEVENT
BEGIN:VEVENT
DTSTART;TZID=Europe/Dublin:20251013T220000
DTEND;TZID=Europe/Dublin:20251014T040000
DTSTAMP:20260421T094941
CREATED:20250904T121320Z
LAST-MODIFIED:20250929T174723Z
UID:1100-1760392800-1760414400@maspalomasfetishpride.com
SUMMARY:The Final Blowout
DESCRIPTION:
URL:https://maspalomasfetishpride.com/event/goodbye-cruising-party/
LOCATION:Cruise Bar\, The Yumbo Center\, Maspalomas\, Spain
CATEGORIES:Fetish
ATTACH;FMTTYPE=image/jpeg:https://maspalomasfetishpride.com/wp-content/uploads/2025/09/WhatsApp-Image-2025-09-11-at-15.41.30.jpeg
END:VEVENT
BEGIN:VEVENT
DTSTART;TZID=Europe/Dublin:20261001T100000
DTEND;TZID=Europe/Dublin:20261001T180000
DTSTAMP:20260421T094941
CREATED:20250529T160358Z
LAST-MODIFIED:20251107T181658Z
UID:215-1790848800-1790877600@maspalomasfetishpride.com
SUMMARY:Welcome Pool Party
DESCRIPTION:
URL:https://maspalomasfetishpride.com/event/welcome-pool-party-2/
LOCATION:Basement Studios\, Av. de Estados Unidos 37\, Playa del Inglés\, 35100\, Spain
CATEGORIES:Pool Party
END:VEVENT
BEGIN:VEVENT
DTSTART;TZID=Europe/Dublin:20261001T210000
DTEND;TZID=Europe/Dublin:20261001T230000
DTSTAMP:20260421T094941
CREATED:20260226T161957Z
LAST-MODIFIED:20260226T161957Z
UID:1430-1790888400-1790895600@maspalomasfetishpride.com
SUMMARY:The CanCanaria Fetish Social
DESCRIPTION:
URL:https://maspalomasfetishpride.com/event/the-cancanaria-fetish-social-2/
LOCATION:The Copacabana\, The Yumbo Center\, Playa del Inglés\, 35100\, Spain
CATEGORIES:Fetish,Social
ATTACH;FMTTYPE=image/jpeg:https://maspalomasfetishpride.com/wp-content/uploads/2026/02/The-CanCanaria-Fetish-Socia.jpg
END:VEVENT
BEGIN:VEVENT
DTSTART;TZID=Europe/Dublin:20261002T213000
DTEND;TZID=Europe/Dublin:20261003T000000
DTSTAMP:20260421T094941
CREATED:20250224T173900Z
LAST-MODIFIED:20260209T105615Z
UID:73-1790976600-1790985600@maspalomasfetishpride.com
SUMMARY:Fetish Pride Meet N Greet
DESCRIPTION:
URL:https://maspalomasfetishpride.com/event/meet-n-greet/
LOCATION:WunderBar\, The Yumbo Center\, Playa del Inglés\, 35100\, Spain
CATEGORIES:Social
ATTACH;FMTTYPE=image/jpeg:https://maspalomasfetishpride.com/wp-content/uploads/2025/02/Fetish-social-2nd-oct-wunderbar.jpg
END:VEVENT
BEGIN:VEVENT
DTSTART;TZID=Europe/Dublin:20261003T100000
DTEND;TZID=Europe/Dublin:20261003T180000
DTSTAMP:20260421T094941
CREATED:20250529T160359Z
LAST-MODIFIED:20260225T183530Z
UID:218-1791021600-1791050400@maspalomasfetishpride.com
SUMMARY:Porn Star Pool Party by Paul Stag
DESCRIPTION:
URL:https://maspalomasfetishpride.com/event/fetish-and-friends-pool-party/
LOCATION:Basement Studios\, Av. de Estados Unidos 37\, Playa del Inglés\, 35100\, Spain
CATEGORIES:Pool Party
ATTACH;FMTTYPE=image/jpeg:https://maspalomasfetishpride.com/wp-content/uploads/2025/05/Porn-star-pool-party-by-paul-stag-copy.jpg
END:VEVENT
BEGIN:VEVENT
DTSTART;TZID=Europe/Dublin:20261003T230000
DTEND;TZID=Europe/Dublin:20261004T060000
DTSTAMP:20260421T094941
CREATED:20250529T160400Z
LAST-MODIFIED:20260209T105718Z
UID:221-1791068400-1791093600@maspalomasfetishpride.com
SUMMARY:Sportswear Party with Gear Zones
DESCRIPTION:
URL:https://maspalomasfetishpride.com/event/sports-gear-party/
LOCATION:Club Kiki\, The Yumbo Center\, Playa del Inglés\, 35100\, Spain
CATEGORIES:Social,Sportswear
ATTACH;FMTTYPE=image/jpeg:https://maspalomasfetishpride.com/wp-content/uploads/2025/02/Sportswear-Party-with-Gear-Zones.jpg
END:VEVENT
BEGIN:VEVENT
DTSTART;TZID=Europe/Dublin:20261004T200000
DTEND;TZID=Europe/Dublin:20261005T010000
DTSTAMP:20260421T094941
CREATED:20250529T160445Z
LAST-MODIFIED:20260225T192236Z
UID:236-1791144000-1791162000@maspalomasfetishpride.com
SUMMARY:Mr Fetish Europe 2026 Election
DESCRIPTION:
URL:https://maspalomasfetishpride.com/event/mr-fetish-europe-2025-election/
LOCATION:Club Kiki\, The Yumbo Center\, Playa del Inglés\, 35100\, Spain
CATEGORIES:Elections
ATTACH;FMTTYPE=image/jpeg:https://maspalomasfetishpride.com/wp-content/uploads/2025/05/Mr.-fetish-europe-2026.jpg
END:VEVENT
BEGIN:VEVENT
DTSTART;TZID=Europe/Dublin:20261005T120000
DTEND;TZID=Europe/Dublin:20261005T180000
DTSTAMP:20260421T094941
CREATED:20250529T160415Z
LAST-MODIFIED:20251107T182052Z
UID:227-1791201600-1791223200@maspalomasfetishpride.com
SUMMARY:Sportswear Pool Party
DESCRIPTION:
URL:https://maspalomasfetishpride.com/event/sportswear-pool-party/
LOCATION:Tropical La Zona\, Av. Arquitecto Manuel de la Peña Suarez\, 18\,\, Playa del Inglés\, 35100\, Spain
CATEGORIES:Pool Party,Sportswear
END:VEVENT
BEGIN:VEVENT
DTSTART;TZID=Europe/Dublin:20261005T210000
DTEND;TZID=Europe/Dublin:20261005T230000
DTSTAMP:20260421T094941
CREATED:20250529T160416Z
LAST-MODIFIED:20260209T105802Z
UID:228-1791234000-1791241200@maspalomasfetishpride.com
SUMMARY:Puppy Pub Crawl
DESCRIPTION:
URL:https://maspalomasfetishpride.com/event/puppy-pup-crawl/
LOCATION:Junior\, The Yumbo Center\, Maspalomas\, Spain
CATEGORIES:Puppy,Sportswear
ATTACH;FMTTYPE=image/jpeg:https://maspalomasfetishpride.com/wp-content/uploads/2025/02/Puppy-Pub-Crawl.jpg
END:VEVENT
BEGIN:VEVENT
DTSTART;TZID=Europe/Dublin:20261005T220000
DTEND;TZID=Europe/Dublin:20261006T010000
DTSTAMP:20260421T094941
CREATED:20250529T160430Z
LAST-MODIFIED:20260210T115752Z
UID:230-1791237600-1791248400@maspalomasfetishpride.com
SUMMARY:Puppy Social
DESCRIPTION:
URL:https://maspalomasfetishpride.com/event/puppy-social/
LOCATION:WunderBar\, The Yumbo Center\, Playa del Inglés\, 35100\, Spain
CATEGORIES:Puppy
ATTACH;FMTTYPE=image/jpeg:https://maspalomasfetishpride.com/wp-content/uploads/2025/05/Puppy-social-copy.jpg
END:VEVENT
BEGIN:VEVENT
DTSTART;TZID=Europe/Dublin:20261006T120000
DTEND;TZID=Europe/Dublin:20261006T180000
DTSTAMP:20260421T094941
CREATED:20250529T160430Z
LAST-MODIFIED:20260223T153023Z
UID:231-1791288000-1791309600@maspalomasfetishpride.com
SUMMARY:Fetish and Wine Excursion / Fetish and Wine in the Mountains
DESCRIPTION:
URL:https://maspalomasfetishpride.com/event/fetish-and-wine-excursion/
LOCATION:Mardi Gras\, The Yumbo Center\, Playa del Inglés\, 35100\, Spain
CATEGORIES:Boat Trips & Excursions
ATTACH;FMTTYPE=image/jpeg:https://maspalomasfetishpride.com/wp-content/uploads/2025/05/Fetish-and-Wine-in-the-Mountains-copy.jpg
END:VEVENT
END:VCALENDAR